BEGIN:VCALENDAR
VERSION:2.0
PRODID:-//Eventin//Event Calendar//EN
CALSCALE:GREGORIAN
METHOD:PUBLISH
BEGIN:VEVENT
UID:588c376579a2c1306ea0478bfe907cac@www.immergas.pl
SUMMARY:Szkolenie produktowo – sprzedażowe dla instalatorów z pomp ciep
 ła – Łódź – Immergas 20.05.2026r.
DESCRIPTION:20.05.2026 9:00 – 14:30 Łódź Immergas Polska Centrala ul. 
 Dostawcza 3a\, 93-231 Łódź Zalety pomp ciepła z wbudowanym zasobnikiem
  c.w.u.
LOCATION:ul. Dostawcza 3a\, 93-231 Łódź 
DTSTAMP:20260419T164436Z
DTSTART:20260520T070000Z
DTEND:20260520T123000Z
END:VEVENT
END:VCALENDAR
