BEGIN:VCALENDAR
VERSION:2.0
PRODID:-//Eventin//Event Calendar//EN
CALSCALE:GREGORIAN
METHOD:PUBLISH
BEGIN:VEVENT
UID:b72fea89abf0700f99729bace07ff81a@www.immergas.pl
SUMMARY:Szkolenie dla instalatorów-Kotły Gazowe-średnie i duże moce –
  Łódź – Immergas 28.05.2026r.
DESCRIPTION:28.05.2026 9:00 - 14:30 Łódź Immergas Polska Centrala ul. Do
 stawcza 3a\, 93-231 Łódź Kotły gazowe powyżej 35 kW
LOCATION:Immergas Polska\, Dostawcza\, Łódź\, Polska
DTSTAMP:20260419T164333Z
DTSTART:20260528T070000Z
DTEND:20260528T123000Z
END:VEVENT
END:VCALENDAR
