BEGIN:VCALENDAR
VERSION:2.0
PRODID:-//Eventin//Event Calendar//EN
CALSCALE:GREGORIAN
METHOD:PUBLISH
BEGIN:VEVENT
UID:3a3d6cf1a24459190e858ce42801b711@www.immergas.pl
SUMMARY:Szkolenie praktyczne z zakresu pomp ciepła i hybrydowych pomp ciep
 ła – ŁÓDŹ- Immergas 10.06.2026r.
DESCRIPTION:10.06.2026 9:00 - 14:30 Łódź Immergas Polska Centrala ul. Do
 stawcza 3a\, 93-231 Łódź Pompy ciepła II
LOCATION:Immergas Polska\, Dostawcza\, Łódź\, Polska
DTSTAMP:20260419T145212Z
DTSTART:20260610T070000Z
DTEND:20260610T123000Z
END:VEVENT
END:VCALENDAR
