BEGIN:VCALENDAR
VERSION:2.0
PRODID:-//Eventin//Event Calendar//EN
CALSCALE:GREGORIAN
METHOD:PUBLISH
BEGIN:VEVENT
UID:fd2693e2fbfae683cdd66dead1e960fd@www.immergas.pl
SUMMARY:Szkolenie produktowo – sprzedażowe dla instalatorów z kotłów 
 gazowych – Łódź – Immergas 11.06.2026r.
DESCRIPTION:11.06.2026 9:00 – 14:30 Łódź Immergas Polska Centrala ul. 
 Dostawcza 3a\, 93-231 Łódź Zalety kotłów gazowych z wbudowanym zasobn
 ikiem c.w.u.
LOCATION:ul. Dostawcza 3a\, 93-231 Łódź 
DTSTAMP:20260419T145647Z
DTSTART:20260611T070000Z
DTEND:20260611T123000Z
END:VEVENT
END:VCALENDAR
