BEGIN:VCALENDAR
VERSION:2.0
PRODID:-//Eventin//Event Calendar//EN
CALSCALE:GREGORIAN
METHOD:PUBLISH
BEGIN:VEVENT
UID:63e0f2fdacfb993aad0331e508a6b147@www.immergas.pl
SUMMARY:Szkolenie dla instalatorów-Kotły Gazowe – Łódź – Immergas 
 18.06.2026r.
DESCRIPTION:18.06.2026 9:00 - 14:30 Łódź Immergas Polska Centrala ul. Do
 stawcza 3a\, 93-231 Łódź Kotły gazowe
LOCATION:Immergas Polska\, Dostawcza\, Łódź\, Polska
DTSTAMP:20260419T145636Z
DTSTART:20260618T070000Z
DTEND:20260618T123000Z
END:VEVENT
END:VCALENDAR
