BEGIN:VCALENDAR
VERSION:2.0
PRODID:-//Eventin//Event Calendar//EN
CALSCALE:GREGORIAN
METHOD:PUBLISH
BEGIN:VEVENT
UID:f3304b4814c725ad0cc5d61f4bf1f5ca@www.immergas.pl
SUMMARY:Szkolenie produktowo – sprzedażowe dla instalatorów z pomp ciep
 ła – Łódź – Immergas 24.06.2026r.
DESCRIPTION:24.06.2026 9:00 – 14:30 Łódź Immergas Polska Centrala ul. 
 Dostawcza 3a\, 93-231 Łódź Zalety pomp ciepła z wbudowanym zasobnikiem
  c.w.u.
LOCATION:ul. Dostawcza 3a\, 93-231 Łódź 
DTSTAMP:20260419T145842Z
DTSTART:20260624T070000Z
DTEND:20260624T123000Z
END:VEVENT
END:VCALENDAR
