BEGIN:VCALENDAR
VERSION:2.0
PRODID:-//Eventin//Event Calendar//EN
CALSCALE:GREGORIAN
METHOD:PUBLISH
BEGIN:VEVENT
UID:bee6551fa4681613ad7b5b2d94b7a3db@www.immergas.pl
SUMMARY:Szkolenie dla instalatorów-Kotły Gazowe-średnie i duże moce –
  Łódź – Immergas 25.06.2026r.
DESCRIPTION:25.06.2026 9:00 - 14:30 Łódź Immergas Polska Centrala ul. Do
 stawcza 3a\, 93-231 Łódź Kotły gazowe powyżej 35 kW
LOCATION:Immergas Polska\, Dostawcza\, Łódź\, Polska
DTSTAMP:20260419T152632Z
DTSTART:20260625T070000Z
DTEND:20260625T123000Z
END:VEVENT
END:VCALENDAR
